BEGIN:VCALENDAR
VERSION:2.0
PRODID:-//ChamberMaster//Event Calendar 2.0//EN
METHOD:PUBLISH
X-PUBLISHED-TTL:P3D
REFRESH-INTERVAL:P3D
CALSCALE:GREGORIAN
BEGIN:VEVENT
DTSTART;VALUE=DATE:20120925
DTEND;VALUE=DATE:20120926
TRANSP:TRANSPARENT
X-MICROSOFT-CDO-ALLDAYEVENT:TRUE
SUMMARY:Business Awards Luncheon 9/25/12
DESCRIPTION:Beatrice Area Chamber of Commerce's\n\nBusiness Awards Luncheon\n\n\n\nTuesday\, September 25\, 2012\n\nNoon - 1:30 pm\n\n\n\nAunt Mary's Center\, 111 S 8th Street\n\n\n\nAt this event\, the Beatrice Area Chamber of Commerce annually recognizes a "Business of the Year" and an "Outstanding New Business" based on nominations received from our members.  We also recognize Chamber Volunteer of the Year and offer Employee Recognition.\n\n\n\nFor registration\, nominations and sponsorship information\, visit our home page: www.beatricechamber.com.
X-ALT-DESC;FMTTYPE=text/html:<span style="font-size: 16px">Beatrice Area Chamber of Commerce&#39\;s<br />\n<span style="font-size: 24px">Business Awards Luncheon</span></span><br />\n<br />\n<span style="font-size: 14px"><strong>Tuesday\, September 25\, 2012<br />\nNoon - 1:30 pm<br />\n<br />\nAunt Mary&#39\;s Center\, 111 S 8th Street</strong><br />\n<br />\nAt this event\, the Beatrice Area Chamber of Commerce annually recognizes a &quot\;Business of the Year&quot\; and an &quot\;Outstanding New Business&quot\; based on nominations received from our members.&nbsp\; We also recognize Chamber Volunteer of the Year and offer Employee Recognition.<br />\n<br />\nFor registration\, nominations&nbsp\;and sponsorship information\, visit our home page: www.beatricechamber.com.</span><br />\n<br />\n
LOCATION:
UID:e.41.6326
SEQUENCE:3
DTSTAMP:20260422T091058Z
URL:https://business.beatricechamber.com/events/details/business-awards-luncheon-9-25-12-09-25-2012-6326
END:VEVENT

END:VCALENDAR
