BEGIN:VCALENDAR
VERSION:2.0
PRODID:-//ChamberMaster//Event Calendar 2.0//EN
METHOD:PUBLISH
X-PUBLISHED-TTL:P3D
REFRESH-INTERVAL:P3D
CALSCALE:GREGORIAN
BEGIN:VEVENT
DTSTART;VALUE=DATE:20110927
DTEND;VALUE=DATE:20110928
TRANSP:TRANSPARENT
X-MICROSOFT-CDO-ALLDAYEVENT:TRUE
SUMMARY:Business Awards Luncheon 9/27/2011
DESCRIPTION:Beatrice Area Chamber of Commerce's\n\n	Business Awards Luncheon\n\n	Tuesday\, September 27\n\n	Holiday Inn Express\n\n	 \n\n	Nominate a deserving business for Outstanding New Business or Business of the Year.  Recognition also available for Chamber Volunteer of the Year and Employee Recognition.  Deadline to nominate Business & Chamber Volunteer: July 29 Click here for nomination forms.  \n\n	See a list of past award recipients - click here.\n\n	 Sponsorship Opportunities Available:  Click here\n\n	\n\n	For up to date event information:  http://www.beatricechamber.com/page.do?acid=5&aid=589
X-ALT-DESC;FMTTYPE=text/html:<p style="text-align: center">\n	<span style="font-size: x-large"><strong><span style="font-family: georgia\, palatino"><font face="Georgia"><span style="font-size: 16px">Beatrice Area Chamber of Commerce&#39\;s</span><br />\n	Business Awards Luncheon</font></span></strong></span></p>\n<p style="text-align: center">\n	<span style="font-family: georgia\, palatino"><span style="font-size: large"><strong><font face="Georgia">Tuesday\, September 27</font></strong></span></span></p>\n<p style="text-align: center">\n	<span style="font-family: georgia\, palatino"><span style="font-size: large"><font face="Georgia">Holiday Inn Express</font></span></span></p>\n<p>\n	<span style="font-family: georgia\, palatino"><font face="Georgia">&nbsp\;</font></span></p>\n<p>\n	<span style="font-family: georgia\, palatino"><span style="font-size: small"><font face="Georgia">Nominate a deserving business for Outstanding New Business or Business of the Year.&nbsp\; </font></span></span><span style="font-family: georgia\, palatino"><span style="font-size: small"><font face="Georgia">Recognition also available for Chamber Volunteer of the Year and Employee Recognition.&nbsp\; </font></span></span><span style="font-family: georgia\, palatino"><span style="font-size: small"><font face="Georgia"><strong>Deadline to nominate Business &amp\; Chamber Volunteer: July 29</strong> </font><span style="font-family: georgia\, palatino"><span style="font-size: small"><a href="http://assets.colenient.com/images/articles/3/businessawardsluncheon2011/3-nomination_forms.pdf" target="_blank"><span style="font-size: medium">Click here </span></a>for nomination forms.&nbsp\; </span></span></span></span></p>\n<p>\n	<span style="font-size: small"><span style="font-family: times new roman\, times"><span style="color: #333300">See a list of past award recipients - <a href="http://assets.colenient.com/images/articles/3/businessawardsluncheon2011/3-winners_list_for_business_awards.pdf" target="_blank" title="Award Winners 2001-2010"><span style="font-size: medium">click here</span></a>.</span></span></span></p>\n<p>\n	<span style="font-family: georgia\, palatino"><span style="font-size: small">&nbsp\;</span></span><span style="font-family: georgia\, palatino"><span style="font-size: small">Sponsorship Opportunities Available:&nbsp\;<span style="font-size: x-small"> </span><a href="http://assets.colenient.com/images/articles/3/businessawardsluncheon2011/3-2011_bal_sponsor_forms.pdf" target="_blank"><span style="font-size: x-small">Click here</span></a><br />\n	<br />\n	For up to date event information:&nbsp\; <font size="2"><a href="http://www.beatricechamber.com/page.do?acid=5&amp\;aid=589">http://www.beatricechamber.com/page.do?acid=5&amp\;aid=589</a></font></span></span><br />\n	&nbsp\;</p>\n
LOCATION:
UID:e.41.4954
SEQUENCE:3
DTSTAMP:20260424T123135Z
URL:https://business.beatricechamber.com/events/details/business-awards-luncheon-9-27-2011-09-27-2011-4954
END:VEVENT

END:VCALENDAR
