BEGIN:VCALENDAR
VERSION:2.0
PRODID:-//ChamberMaster//Event Calendar 2.0//EN
METHOD:PUBLISH
X-PUBLISHED-TTL:P3D
REFRESH-INTERVAL:P3D
CALSCALE:GREGORIAN
BEGIN:VEVENT
DTSTART;VALUE=DATE:20111101
DTEND;VALUE=DATE:20111102
TRANSP:TRANSPARENT
X-MICROSOFT-CDO-ALLDAYEVENT:TRUE
SUMMARY:Business-To-Business Expo & Job Fair
DESCRIPTION:Beatrice Area Chamber of Commerce hosts\n\n2nd Annual Business Expo\n\n\n\nStudent Career Exploration:  1 pm - 3 pm\n\nOpen to Public: 3 pm - 7 pm\n\n\n\nat Holiday Inn Express & Suites\n\n4005 N 6th St\n\nBeatrice\, NE  68310\n\n\n\nCall the Chamber Office for information on how to reserve your booth!  402-223-2338
X-ALT-DESC;FMTTYPE=text/html:<span style="font-size: 16px"><strong><span style="font-size: 14px">Beatrice Area Chamber of Commerce hosts</span><br />\n<u><span style="font-size: 18px">2nd Annual Business Expo</span></u></strong></span><br />\n<br />\n<span style="font-size: 16px">Student Career Exploration:&nbsp\; 1 pm - 3 pm<br />\nOpen to Public: 3 pm - 7 pm<br />\n<br />\nat Holiday Inn Express &amp\; Suites<br />\n4005 N 6th St<br />\nBeatrice\, NE&nbsp\; 68310<br />\n<br />\nCall the Chamber Office for information on how to reserve your booth!&nbsp\; 402-223-2338</span><br />\n<br />\n
LOCATION:
UID:e.41.4819
SEQUENCE:3
DTSTAMP:20260424T100137Z
URL:https://business.beatricechamber.com/events/details/business-to-business-expo-job-fair-11-01-2011-4819
END:VEVENT

END:VCALENDAR
