BEGIN:VCALENDAR
VERSION:2.0
PRODID:-//ChamberMaster//Event Calendar 2.0//EN
METHOD:PUBLISH
X-PUBLISHED-TTL:P3D
REFRESH-INTERVAL:P3D
CALSCALE:GREGORIAN
BEGIN:VEVENT
DTSTART;VALUE=DATE:20100615
DTEND;VALUE=DATE:20100618
TRANSP:TRANSPARENT
X-MICROSOFT-CDO-ALLDAYEVENT:TRUE
SUMMARY:Camp Paw Paw
DESCRIPTION:Beatrice Humane Society's Fourth Annual "Camp Paw Paw" Summer day camp especially for kids who love animals! Three sessions planned for this year: Session One: June 8 - 10For kids entering grades 6th thru 8th Session Two:  June 15 - 17For kids entering grades 3rd thru 5th Session Three:  June 22For kids entering into grades K - 2nd Cost for sessions one and two: $35 per child\, choice of morning or afternoon camp.  Fee includes all craft materials\, daily snack and drink.  Cost for session three: $25 per child and there will only be a morning session offered.  Tshirts can be purchased for an additional $10.  Space is limited.  Call the Beatrice Animal Shelter by May 22\, 228-9100.
X-ALT-DESC;FMTTYPE=text/html:<div><span style="font-size: medium">Beatrice Humane Society's Fourth Annual</span></div><div><span style="font-size: medium"> &quot\;Camp Paw Paw&quot\;</span></div><div>&nbsp\;</div><div><span style="font-size: small">Summer day camp especially for kids who love animals!</span></div><div>&nbsp\;</div><div><span style="font-size: x-small">Three sessions planned for this year:</span></div><div>&nbsp\;</div><div><span style="font-size: x-small">Session One: June 8 - 10</span></div><div><span style="font-size: x-small">For kids entering grades 6th thru 8th</span></div><div>&nbsp\;</div><div><span style="font-size: x-small">Session Two:&nbsp\; June 15 - 17</span></div><div><span style="font-size: x-small">For kids entering grades 3rd thru 5th</span></div><div>&nbsp\;</div><div><span style="font-size: x-small">Session Three:&nbsp\; June 22</span></div><div><span style="font-size: x-small">For kids entering into grades&nbsp\;K - 2nd</span></div><div>&nbsp\;</div><div>Cost for sessions one and two: $35 per child\, choice of morning or afternoon camp.&nbsp\; Fee includes all craft materials\, daily snack and drink.&nbsp\; Cost for session three: $25 per child and there will only be a morning session offered.&nbsp\; Tshirts can be purchased for an additional $10.&nbsp\;</div><div>&nbsp\;</div><div>Space is limited.&nbsp\; Call the Beatrice Animal Shelter by May 22\, 228-9100.</div><div>&nbsp\;</div>
LOCATION:
UID:e.41.1980
SEQUENCE:3
DTSTAMP:20260425T105505Z
URL:https://business.beatricechamber.com/events/details/camp-paw-paw-06-15-2010-1980
END:VEVENT

END:VCALENDAR
