BEGIN:VCALENDAR
VERSION:2.0
PRODID:-//ChamberMaster//Event Calendar 2.0//EN
METHOD:PUBLISH
X-PUBLISHED-TTL:P3D
REFRESH-INTERVAL:P3D
CALSCALE:GREGORIAN
BEGIN:VEVENT
DTSTART;VALUE=DATE:20110804
DTEND;VALUE=DATE:20110805
TRANSP:TRANSPARENT
X-MICROSOFT-CDO-ALLDAYEVENT:TRUE
SUMMARY:Camp Paw Paw
DESCRIPTION:The Beatrice Humane Society has scheduled its fifth annual "Camp Paw Paw\," a summer day camp especially for kids who love animals.  This year's camp is sponsored by Beatrice Noon Kiwanis and the camp leaders are Kathy Woodward and Kyla Moore.  Two sessions are planned for this year.\n\n\n\nSession one will be held July 26- 28 and session two will be held August 2-4.  Morning and afternoon classes will be offered each week.  Morning classes will be held from 9 a.m.-noon and are for kids entering grades 3-5.  Afternoon classes wil be held from 1:30-4:30 p.m. and are for kids entering grades 6-8. \n\n\n\nThe cost per session will be $35 per child and the fee includes all craft materials\, daily snack and drink\, and a Camp Paw Paw T-shirt.\n\n\n\nSpace at Camp Paw Paw is limited and pre-registration is required.  Registration forms are now available online at www.beatricehumanesociety.com or they can be picked up at the Beatrice Animal Shelter at 300 Ella Street\, Beatrice.  Completed forms and payment must be received at the Beatrice Animal Shelter by July 5th. \n\n\n\nFor more information contact the Beatrice Animal Shelter\, 402-228-9100.
X-ALT-DESC;FMTTYPE=text/html:The Beatrice Humane Society has scheduled its fifth annual &quot\;Camp Paw Paw\,&quot\; a summer day camp especially for kids who love animals.&nbsp\; This year&#39\;s camp is sponsored by Beatrice Noon Kiwanis and the camp leaders are Kathy Woodward and Kyla Moore.&nbsp\; Two sessions are planned for this year.<br />\n<br />\nSession one will be held July 26- 28 and session two will be held August 2-4.&nbsp\; Morning and afternoon classes will be offered each week.&nbsp\; Morning classes will be held from 9 a.m.-noon and are for kids entering grades 3-5.&nbsp\; Afternoon classes wil be held from 1:30-4:30 p.m. and are for kids entering grades 6-8.&nbsp\;<br />\n<br />\nThe cost per session will be $35 per child and the fee includes all craft materials\, daily snack and drink\, and a Camp Paw Paw T-shirt.<br />\n<br />\nSpace at Camp Paw Paw is limited and pre-registration is required.&nbsp\; Registration forms are now available online at <a href="http://www.beatricehumanesociety.com/">www.beatricehumanesociety.com</a> or they can be picked up at the Beatrice Animal Shelter at 300 Ella Street\, Beatrice.&nbsp\; Completed forms and payment must be received at the Beatrice Animal Shelter by July 5th.&nbsp\;<br />\n<br />\nFor more information contact the Beatrice Animal Shelter\, 402-228-9100.<span _fck_bookmark="1" style="display: none">&nbsp\;</span>
LOCATION:
UID:e.41.4920
SEQUENCE:3
DTSTAMP:20260424T134412Z
URL:https://business.beatricechamber.com/events/details/camp-paw-paw-08-04-2011-4920
END:VEVENT

END:VCALENDAR
