BEGIN:VCALENDAR
VERSION:2.0
PRODID:-//ChamberMaster//Event Calendar 2.0//EN
METHOD:PUBLISH
X-PUBLISHED-TTL:P3D
REFRESH-INTERVAL:P3D
CALSCALE:GREGORIAN
BEGIN:VEVENT
DTSTART;VALUE=DATE:20110716
DTEND;VALUE=DATE:20110717
TRANSP:TRANSPARENT
X-MICROSOFT-CDO-ALLDAYEVENT:TRUE
SUMMARY:Campfire Program
DESCRIPTION:Starts at 7 p.m.\, with Forrest and Eileen Smith\, directors of North Mississippi Dulcimer Club\, at Homestead National Monument of America's Education Center.  They will be joined by members of Homestead Dulcimer Club.  The Smiths will also be playing for visitors during the afternoon.  Bring lawn chairs and insect repellent for comfort.  Program moved indoors in case of inclement weather.
X-ALT-DESC;FMTTYPE=text/html:Starts at 7 p.m.\, with Forrest and Eileen Smith\, directors of North Mississippi Dulcimer Club\, at Homestead National Monument of America&#39\;s Education Center.&nbsp\; They will be joined by members of Homestead Dulcimer Club.&nbsp\; The Smiths will also be playing for visitors during the afternoon.&nbsp\; Bring lawn chairs and insect repellent for comfort.&nbsp\; Program moved indoors in case of inclement weather.
LOCATION:
UID:e.41.4961
SEQUENCE:3
DTSTAMP:20260424T151859Z
URL:https://business.beatricechamber.com/events/details/campfire-program-07-16-2011-4961
END:VEVENT

END:VCALENDAR
