BEGIN:VCALENDAR
VERSION:2.0
PRODID:-//ChamberMaster//Event Calendar 2.0//EN
METHOD:PUBLISH
X-PUBLISHED-TTL:P3D
REFRESH-INTERVAL:P3D
CALSCALE:GREGORIAN
BEGIN:VEVENT
DTSTART;VALUE=DATE:20110730
DTEND;VALUE=DATE:20110731
TRANSP:TRANSPARENT
X-MICROSOFT-CDO-ALLDAYEVENT:TRUE
SUMMARY:Campfire Program
DESCRIPTION:Starts at 7 p.m. at the Homestead National Monument of America's Education Center.  Presenter\, musician Robert Dunne\, will look at the traditional Aboriginal culture using such musical instruments as clapsticks\, a bullroar and the didgeridoo\, an ancient Australian wind instrument made from a tree branch hollowed out by termites.  Bring lawn chairs and insect repellant for comfort.
X-ALT-DESC;FMTTYPE=text/html:Starts at 7 p.m. at the Homestead National Monument of America&#39\;s Education Center.&nbsp\; Presenter\, musician Robert Dunne\, will look at the traditional Aboriginal culture using such musical instruments as clapsticks\, a bullroar and the didgeridoo\, an ancient Australian wind instrument made from a tree branch hollowed out by termites.&nbsp\; Bring lawn chairs and insect repellant for comfort.
LOCATION:
UID:e.41.4991
SEQUENCE:3
DTSTAMP:20260424T152756Z
URL:https://business.beatricechamber.com/events/details/campfire-program-07-30-2011-4991
END:VEVENT

END:VCALENDAR
