BEGIN:VCALENDAR
VERSION:2.0
PRODID:-//ChamberMaster//Event Calendar 2.0//EN
METHOD:PUBLISH
X-PUBLISHED-TTL:P3D
REFRESH-INTERVAL:P3D
CALSCALE:GREGORIAN
BEGIN:VEVENT
DTSTART:20110807T000000Z
DTEND:20110807T010000Z
X-MICROSOFT-CDO-ALLDAYEVENT:FALSE
SUMMARY:Campfire Program--Homestead National Monument of America
DESCRIPTION:First mass migration of Czechs to Nebraska and other Great Plains states.  7-8 p.m. at the Homestead National Monument of America Education Center.  Historian Bruce Garver.  Bring lawn chairs and insect repellant for comfort.  In case of inclement weather\, programs will be held indoors.
X-ALT-DESC;FMTTYPE=text/html:First mass migration of Czechs to Nebraska and other Great Plains states.&nbsp\; 7-8 p.m. at the Homestead National Monument of America Education Center.&nbsp\; Historian Bruce Garver.&nbsp\; Bring lawn chairs and insect repellant for comfort.&nbsp\; In case of inclement weather\, programs will be held indoors.
LOCATION:
UID:e.41.5020
SEQUENCE:3
DTSTAMP:20260424T135642Z
URL:https://business.beatricechamber.com/events/details/campfire-program-homestead-national-monument-of-america-08-06-2011-5020
END:VEVENT

END:VCALENDAR
