BEGIN:VCALENDAR
VERSION:2.0
PRODID:-//ChamberMaster//Event Calendar 2.0//EN
METHOD:PUBLISH
X-PUBLISHED-TTL:P3D
REFRESH-INTERVAL:P3D
CALSCALE:GREGORIAN
BEGIN:VEVENT
DTSTART:20110821T000000Z
DTEND:20110821T010000Z
X-MICROSOFT-CDO-ALLDAYEVENT:FALSE
SUMMARY:Campfire Program - "The History and Significance of Prairie Chickens"
DESCRIPTION:7-8 p.m.\, Homestead National Monument of America Education Center.  Program by Park Guide Allison Alley.  Bring lawn chairs and insect repellent for comfort.  In case of inclement weather\, programs will be held inside.  Music program by Jeremy Hutson\, local classical guitarist.
X-ALT-DESC;FMTTYPE=text/html:7-8 p.m.\, Homestead National Monument of America Education Center.&nbsp\; Program by Park Guide Allison Alley.&nbsp\; Bring lawn chairs and insect repellent for comfort.&nbsp\; In case of inclement weather\, programs will be held inside.&nbsp\; Music program by Jeremy Hutson\, local classical guitarist.
LOCATION:
UID:e.41.5044
SEQUENCE:3
DTSTAMP:20260424T135653Z
URL:https://business.beatricechamber.com/events/details/campfire-program-the-history-and-significance-of-prairie-chickens-08-20-2011-5044
END:VEVENT

END:VCALENDAR
