BEGIN:VCALENDAR
VERSION:2.0
PRODID:-//ChamberMaster//Event Calendar 2.0//EN
METHOD:PUBLISH
X-PUBLISHED-TTL:P3D
REFRESH-INTERVAL:P3D
CALSCALE:GREGORIAN
BEGIN:VEVENT
DTSTART;VALUE=DATE:20110709
DTEND;VALUE=DATE:20110710
TRANSP:TRANSPARENT
X-MICROSOFT-CDO-ALLDAYEVENT:TRUE
SUMMARY:Campfire Program to be shown on Civil War Soldiers at the Homestead
DESCRIPTION:The Common Soldier in the Civil War will be presented by Ron Rockenbach as he brings to life the adventure and sacrifice of the Civil War.  The program starts at 7 p.m. at Homestead National Monument of America's Education Center.\n\n\n\nHomestead National Monument is located four miles west of Beatrice State Highway 4.  The visitor center is open 8:30 a.m.-6:00 p.m. daily.  Call 402-223-3514 or visit www.nps.gov/home for more information.
X-ALT-DESC;FMTTYPE=text/html:The Common Soldier in the Civil War will be presented by Ron Rockenbach as he brings to life the adventure and sacrifice of the Civil War.&nbsp\; The program starts at 7 p.m. at Homestead National Monument of America&#39\;s Education Center.<br />\n<br />\nHomestead National Monument is located four miles west of Beatrice State Highway 4.&nbsp\; The visitor center is open 8:30 a.m.-6:00 p.m. daily.&nbsp\; Call 402-223-3514 or visit <a href="http://www.nps.gov/home">www.nps.gov/home</a> for more information.
LOCATION:
UID:e.41.4950
SEQUENCE:3
DTSTAMP:20260424T153554Z
URL:https://business.beatricechamber.com/events/details/campfire-program-to-be-shown-on-civil-war-soldiers-at-the-homestead-07-09-2011-4950
END:VEVENT

END:VCALENDAR
