BEGIN:VCALENDAR
VERSION:2.0
PRODID:-//ChamberMaster//Event Calendar 2.0//EN
METHOD:PUBLISH
X-PUBLISHED-TTL:P3D
REFRESH-INTERVAL:P3D
CALSCALE:GREGORIAN
BEGIN:VEVENT
DTSTART:20110828T000000Z
DTEND:20110828T010000Z
X-MICROSOFT-CDO-ALLDAYEVENT:FALSE
SUMMARY:Campfire Program - "Woody Guthrie"
DESCRIPTION:"Woody Guthrie: Re-envisioning 1930s America" 7-8 p.m.\, Homestead National Monument of America's Education Center.  Program by Mike Adams and Kathryn N. Benze.  Bring lawn chairs and insect repellant for comfort.
X-ALT-DESC;FMTTYPE=text/html:&quot\;Woody Guthrie: Re-envisioning 1930s America&quot\; 7-8 p.m.\, Homestead National Monument of America&#39\;s Education Center.&nbsp\; Program by Mike Adams and Kathryn N. Benze.&nbsp\; Bring lawn chairs and insect repellant for comfort.
LOCATION:
UID:e.41.5069
SEQUENCE:3
DTSTAMP:20260424T134132Z
URL:https://business.beatricechamber.com/events/details/campfire-program-woody-guthrie-08-27-2011-5069
END:VEVENT

END:VCALENDAR
