BEGIN:VCALENDAR
VERSION:2.0
PRODID:-//ChamberMaster//Event Calendar 2.0//EN
METHOD:PUBLISH
X-PUBLISHED-TTL:P3D
REFRESH-INTERVAL:P3D
CALSCALE:GREGORIAN
BEGIN:VEVENT
DTSTART;VALUE=DATE:20100427
DTEND;VALUE=DATE:20100428
TRANSP:TRANSPARENT
X-MICROSOFT-CDO-ALLDAYEVENT:TRUE
SUMMARY:Candidate Forum 4/27/10
DESCRIPTION:Political Candidate Forum hosted by Beatrice Area Chamber of Commerce Tuesday\, April 27\, 20106:30 p.m.Business Administration OfficeBeatrice\, NE The public is welcome to attend this event. Schedule:6:30 - 7 p.m.\, Senatorial Candidates7 p.m. - 8 p.m.\, Gage County Supervisors8 p.m. - 8:30 p.m.\, Gage County Attorney8:30 p.m. - 9 p.m.\, Gage County Sheriff Business-related questions will be accepted by the public.  The question submitted must be asked of all candidates running for the same office.  Questions should be submitted by April 23 by phone at 223-2338 or mail at 205 N 4th St.\, or email info@beatricechamber.com. The candidates forum will air live on Channel 9 and be video-taped for future use on channel 9 prior to elections on May 11. For more information\, call Lori Warner at the Chamber\, 223-2338.
X-ALT-DESC;FMTTYPE=text/html:<div>Political Candidate Forum hosted by Beatrice Area Chamber of Commerce</div><div>&nbsp\;</div><div>Tuesday\, April 27\, 2010</div><div>6:30 p.m.</div><div>Business Administration Office</div><div>Beatrice\, NE</div><div>&nbsp\;</div><div>The public is welcome to attend this event.</div><div>&nbsp\;</div><div>Schedule:</div><div>6:30 - 7 p.m.\, Senatorial Candidates</div><div>7 p.m. - 8 p.m.\, Gage County Supervisors</div><div>8 p.m. - 8:30 p.m.\, Gage County Attorney</div><div>8:30 p.m. - 9 p.m.\, Gage County Sheriff</div><div>&nbsp\;</div><div>Business-related questions will be accepted by the public.&nbsp\; The question submitted must be asked of all candidates running for the same office.&nbsp\; Questions should be submitted by April 23 by phone at 223-2338 or mail at 205 N 4th St.\, or email <a href="mailto:info@beatricechamber.com">info@beatricechamber.com</a>.</div><div>&nbsp\;</div><div>The candidates forum will air live on Channel 9 and be video-taped for future use on channel 9 prior to elections on May 11.</div><div>&nbsp\;</div><div>For more information\, call Lori Warner at the Chamber\, 223-2338.</div>
LOCATION:
UID:e.41.1945
SEQUENCE:3
DTSTAMP:20260425T135226Z
URL:https://business.beatricechamber.com/events/details/candidate-forum-4-27-10-04-27-2010-1945
END:VEVENT

END:VCALENDAR
