BEGIN:VCALENDAR
VERSION:2.0
PRODID:-//ChamberMaster//Event Calendar 2.0//EN
METHOD:PUBLISH
X-PUBLISHED-TTL:P3D
REFRESH-INTERVAL:P3D
CALSCALE:GREGORIAN
BEGIN:VEVENT
DTSTART:20091002T000000Z
DTEND:20091002T010000Z
X-MICROSOFT-CDO-ALLDAYEVENT:FALSE
SUMMARY:Candle Light Vigil
DESCRIPTION:Candle Light VigilThursday\, October 1st at 7:00 pmTrailhead Park(corner of 2nd & Court Street across from Gage County Museum) Come see the lights turn purple in the park and downtown Beatrice.To raise awareness about domestic violence and to remember and honor the victims.Featured speakers: Jeanie Kay Truesdale\, Christian Country Vocalist and other keynotes. Event hosted by Hope Crisis Center
X-ALT-DESC;FMTTYPE=text/html:<div>Candle Light Vigil</div><div>Thursday\, October 1st at 7:00 pm</div><div>Trailhead Park</div><div>(corner of 2nd &amp\; Court Street across from Gage County Museum)</div><div>&nbsp\;</div><div>Come see the lights turn purple in the park and downtown Beatrice.</div><div>To raise awareness about domestic violence and to remember and honor the victims.</div><div>Featured speakers: Jeanie Kay Truesdale\, Christian Country Vocalist and other keynotes.</div><div>&nbsp\;</div><div>Event hosted by Hope Crisis Center</div>
LOCATION:
UID:e.41.1441
SEQUENCE:3
DTSTAMP:20260425T221213Z
URL:https://business.beatricechamber.com/events/details/candle-light-vigil-10-01-2009-1441
END:VEVENT

END:VCALENDAR
