BEGIN:VCALENDAR
VERSION:2.0
PRODID:-//ChamberMaster//Event Calendar 2.0//EN
METHOD:PUBLISH
X-PUBLISHED-TTL:P3D
REFRESH-INTERVAL:P3D
CALSCALE:GREGORIAN
BEGIN:VEVENT
DTSTART:20110623T220000Z
DTEND:20110624T000000Z
X-MICROSOFT-CDO-ALLDAYEVENT:FALSE
SUMMARY:Captains Stansbury Leaving at End of June\, Hosting Farewell Event
DESCRIPTION:Captains Joshua and Rhegan Stansbury and their two children Isabella and Lillianah will be transferring to Williston\, N.D.\, at the end of this month.  Captains Stansbury have been serving in Beatrice as The Salvation Army Corps officers (pastors) since 2007.\n\n\n\nThere will be a farewell for them Thursday\, June 23\, from 5-7 p.m. at The Salvation Army\, 120 S. 7th St. in Beatrice.  The public is welcome to attend the farewell event.
X-ALT-DESC;FMTTYPE=text/html:Captains Joshua and Rhegan Stansbury and their two children Isabella and Lillianah will be transferring to Williston\, N.D.\, at the end of this month.&nbsp\; Captains Stansbury have been serving in Beatrice as The Salvation Army Corps officers (pastors) since 2007.<br />\n<br />\nThere will be a farewell for them Thursday\, June 23\, from 5-7 p.m. at The Salvation Army\, 120 S. 7th St. in Beatrice.&nbsp\; The public is welcome to attend the farewell event.<br />\n<br />\n<br />\n
LOCATION:
UID:e.41.4914
SEQUENCE:3
DTSTAMP:20260424T165932Z
URL:https://business.beatricechamber.com/events/details/captains-stansbury-leaving-at-end-of-june-hosting-farewell-event-06-23-2011-4914
END:VEVENT

END:VCALENDAR
