BEGIN:VCALENDAR
VERSION:2.0
PRODID:-//ChamberMaster//Event Calendar 2.0//EN
METHOD:PUBLISH
X-PUBLISHED-TTL:P3D
REFRESH-INTERVAL:P3D
CALSCALE:GREGORIAN
BEGIN:VEVENT
DTSTART:20110409T140000Z
DTEND:20110409T180000Z
X-MICROSOFT-CDO-ALLDAYEVENT:FALSE
SUMMARY:Car Seat Check-Up!
DESCRIPTION:Free Car Seat Check-up!\n\n\n\nSaturday\, April 9\n\n9 am - 1 pm\n\nAppointments appreciated\, 402-223-4080\n\n\n\nGage County Sheriff's Office\n\n612 Lincoln Street\, Beatrice\n\n\n\nMake sure your child's car seat is secured correctly in your vehicle!\n\n\n\nLow cost child safety seats available. \n\n\n\nEvent sponsors:  Safe Kids Southeast\, the Family Resource Center Coalition of Nebraska\, Gage County Sheriff's Office and Beatrice Police Department
X-ALT-DESC;FMTTYPE=text/html:Free Car Seat Check-up!<br />\n<br />\nSaturday\, April 9<br />\n9 am - 1 pm<br />\nAppointments appreciated\, 402-223-4080<br />\n<br />\nGage County Sheriff&#39\;s Office<br />\n612 Lincoln Street\, Beatrice<br />\n<br />\nMake sure your child&#39\;s car seat is secured correctly in your vehicle!<br />\n<br />\nLow cost child safety seats available.&nbsp\;<br />\n<br />\nEvent sponsors:&nbsp\; Safe Kids Southeast\, the Family Resource Center Coalition of Nebraska\, Gage County Sheriff&#39\;s Office and Beatrice Police Department
LOCATION:
UID:e.41.4262
SEQUENCE:3
DTSTAMP:20260424T195046Z
URL:https://business.beatricechamber.com/events/details/car-seat-check-up-04-09-2011-4262
END:VEVENT

END:VCALENDAR
