BEGIN:VCALENDAR
VERSION:2.0
PRODID:-//ChamberMaster//Event Calendar 2.0//EN
METHOD:PUBLISH
X-PUBLISHED-TTL:P3D
REFRESH-INTERVAL:P3D
CALSCALE:GREGORIAN
BEGIN:VEVENT
DTSTART;VALUE=DATE:20100316
DTEND;VALUE=DATE:20100317
TRANSP:TRANSPARENT
X-MICROSOFT-CDO-ALLDAYEVENT:TRUE
SUMMARY:Cards and game night 3/16/10
DESCRIPTION:Cards and game night Beatrice Senior Center101 N 25th St.Beatrice\, NE 5:30 - 8:30 p.m. Hot beef sandwiches\, chips\, relishes\, dessert.  Door prizes and popcorn.  For more information contact the center at 223-1357.
X-ALT-DESC;FMTTYPE=text/html:<div>Cards and game night</div><div>&nbsp\;</div><div>Beatrice Senior Center</div><div>101 N 25th St.</div><div>Beatrice\, NE</div><div>&nbsp\;</div><div>5:30 - 8:30 p.m.</div><div>&nbsp\;</div><div>Hot beef sandwiches\, chips\, relishes\, dessert. &nbsp\;Door prizes and popcorn.&nbsp\; For more information contact the center at 223-1357.</div>
LOCATION:
UID:e.41.1701
SEQUENCE:3
DTSTAMP:20260425T153116Z
URL:https://business.beatricechamber.com/events/details/cards-and-game-night-3-16-10-03-16-2010-1701
END:VEVENT

END:VCALENDAR
