BEGIN:VCALENDAR
VERSION:2.0
PRODID:-//ChamberMaster//Event Calendar 2.0//EN
METHOD:PUBLISH
X-PUBLISHED-TTL:P3D
REFRESH-INTERVAL:P3D
CALSCALE:GREGORIAN
BEGIN:VEVENT
DTSTART;VALUE=DATE:20111202
DTEND;VALUE=DATE:20111203
TRANSP:TRANSPARENT
X-MICROSOFT-CDO-ALLDAYEVENT:TRUE
SUMMARY:"Catch the Glow"
DESCRIPTION:Please join us as we..."Catch the Glow!"\n\n\n\n10th Annual Benefit Reception and Auction Fundraiser for the Beatrice Community Hospital Foundation\n\n\n\nFirday\, December 2\n\n6:30 pm\n\n\n\nHoliday Inn Express & Suites\, Beatrice\, NE\n\n$50 per individual/$100 per couple\n\n\n\nReservations necessary to Foundation office (402)223-3078\n\n\n\nProceeds will go to the Beatrice Community Hospital Foundation Capital Campaign to help enhance the new hospital facility scheduled to open in early 2012.
X-ALT-DESC;FMTTYPE=text/html:Please join us as we...&quot\;Catch the Glow!&quot\;<br />\n<br />\n10th Annual Benefit&nbsp\;Reception and Auction Fundraiser for the Beatrice Community Hospital Foundation<br />\n<br />\nFirday\, December 2<br />\n6:30 pm<br />\n<br />\nHoliday Inn Express &amp\; Suites\, Beatrice\, NE<br />\n$50 per individual/$100 per couple<br />\n<br />\nReservations necessary to Foundation office (402)223-3078<br />\n<br />\nProceeds will go to the Beatrice Community Hospital Foundation Capital Campaign to help enhance the new hospital facility scheduled to open in early 2012.
LOCATION:
UID:e.41.5231
SEQUENCE:3
DTSTAMP:20260424T082645Z
URL:https://business.beatricechamber.com/events/details/catch-the-glow-12-02-2011-5231
END:VEVENT

END:VCALENDAR
