BEGIN:VCALENDAR
VERSION:2.0
PRODID:-//ChamberMaster//Event Calendar 2.0//EN
METHOD:PUBLISH
X-PUBLISHED-TTL:P3D
REFRESH-INTERVAL:P3D
CALSCALE:GREGORIAN
BEGIN:VEVENT
DTSTART:20101204T003000Z
DTEND:20101204T033000Z
X-MICROSOFT-CDO-ALLDAYEVENT:FALSE
SUMMARY:''Catch the Glow'' Benefit Reception and Auction
DESCRIPTION:Join us for the 9th annual benefit hors d'oeuvres reception and live/silent auction fundraiser for the Beatrice Community Hospital Foundation. The BCH Foundation supports vital community services provided by the hospital\, meets unbudgeted hosptial equipment and training needs\, and assists the hosptial in reaching out through community partnerships to ensure the health and safety of Gage County residents of all ages. Please join us as we "Catch the Glow!"
X-ALT-DESC;FMTTYPE=text/html:Join us for the 9th annual benefit hors d'oeuvres reception and live/silent auction fundraiser for the Beatrice Community Hospital Foundation. The BCH Foundation supports vital community services provided by the hospital\, meets unbudgeted hosptial equipment and training needs\, and assists the hosptial in reaching out through community partnerships to ensure the health and safety of Gage County residents of all ages. Please join us as we "Catch the Glow!"
LOCATION:Holiday Inn Express\, 4005 North 6th Street\, Beatrice\, NE
UID:e.41.2134
SEQUENCE:3
DTSTAMP:20260425T020347Z
URL:https://business.beatricechamber.com/events/details/catch-the-glow-benefit-reception-and-auction-12-03-2010-2134
END:VEVENT

END:VCALENDAR
