BEGIN:VCALENDAR
VERSION:2.0
PRODID:-//ChamberMaster//Event Calendar 2.0//EN
METHOD:PUBLISH
X-PUBLISHED-TTL:P3D
REFRESH-INTERVAL:P3D
CALSCALE:GREGORIAN
BEGIN:VEVENT
DTSTART:20091205T003000Z
DTEND:20091205T033000Z
X-MICROSOFT-CDO-ALLDAYEVENT:FALSE
SUMMARY:''Catch The Glow'' Benefit Recepton & Auction Fundraiser
DESCRIPTION:"Catch The Glow" of giving at this eighth annual benefit reception and auction fundraiser for the Beatrice Community Hospital Foundation. Business/Holiday Attire. The Hospital Foundaton supports many health related services that benefit individuals and families in Beatrice and the surrounding communities\, including Breast Cancer Awareness\, Health Care Scholarships\, Home Health\, Hospice\, Immunization Clinics\, Lifeline\, P.A.T.C.H.\, and Spiritual Life Ministry (Hospital Chaplain).
X-ALT-DESC;FMTTYPE=text/html:"Catch The Glow" of giving at this eighth annual benefit reception and auction fundraiser for the Beatrice Community Hospital Foundation. Business/Holiday Attire. The Hospital Foundaton supports many health related services that benefit individuals and families in Beatrice and the surrounding communities\, including Breast Cancer Awareness\, Health Care Scholarships\, Home Health\, Hospice\, Immunization Clinics\, Lifeline\, P.A.T.C.H.\, and Spiritual Life Ministry (Hospital Chaplain).\n
LOCATION:Holiday Inn Express Hotel & Suties\, Beatrice\, Nebraska
UID:e.41.1170
SEQUENCE:3
DTSTAMP:20260425T194326Z
URL:https://business.beatricechamber.com/events/details/catch-the-glow-benefit-recepton-auction-fundraiser-12-04-2009-1170
END:VEVENT

END:VCALENDAR
