BEGIN:VCALENDAR
VERSION:2.0
PRODID:-//ChamberMaster//Event Calendar 2.0//EN
METHOD:PUBLISH
X-PUBLISHED-TTL:P3D
REFRESH-INTERVAL:P3D
CALSCALE:GREGORIAN
BEGIN:VEVENT
DTSTART;VALUE=DATE:20110408
DTEND;VALUE=DATE:20110409
TRANSP:TRANSPARENT
X-MICROSOFT-CDO-ALLDAYEVENT:TRUE
SUMMARY:"Caught In The Act" comedy
DESCRIPTION:7:30 p.m.\, staged by the Diller-Odell Sophomore Class at the Diller-Odell Elementary School in Diller. Doors open at 7 p.m. Directed by Mrs. Lindblad.\n\n\n\nAdmission: $5\, grades 6 and under\; $8\, grades 7 through adult.
X-ALT-DESC;FMTTYPE=text/html:7:30 p.m.\, staged by the Diller-Odell Sophomore Class at the Diller-Odell Elementary School in Diller. Doors open at 7 p.m. Directed by Mrs. Lindblad.<br />\n<br />\nAdmission: $5\, grades 6 and under\; $8\, grades 7 through adult.
LOCATION:
UID:e.41.4558
SEQUENCE:3
DTSTAMP:20260424T195138Z
URL:https://business.beatricechamber.com/events/details/caught-in-the-act-comedy-04-08-2011-4558
END:VEVENT

END:VCALENDAR
