BEGIN:VCALENDAR
VERSION:2.0
PRODID:-//ChamberMaster//Event Calendar 2.0//EN
METHOD:PUBLISH
X-PUBLISHED-TTL:P3D
REFRESH-INTERVAL:P3D
CALSCALE:GREGORIAN
BEGIN:VEVENT
DTSTART:20120127T201500Z
DTEND:20120127T210000Z
X-MICROSOFT-CDO-ALLDAYEVENT:FALSE
SUMMARY:Cedar Elementary School "55th Birthday Party"
DESCRIPTION:Former students and staff of Cedar Elementary School are invited and encouraged to attend a "55th Birthday Party" to celebrate the building's dedication in 1957\, and 55 years of quality education. The event is being organized by the Cedar PTO and will take place Friday\, 1/27/12\, 2:00PM in the Cedar multipurpose room\, 201 S. Cedar Street\, Beatrice. Guests may use the main entrance on the south east end of the building. Please note there is no parking on Cedar Street\, which is used for school bus parking.
X-ALT-DESC;FMTTYPE=text/html:Former students and staff of Cedar Elementary School are invited and encouraged to attend a &quot\;55th Birthday Party&quot\; to celebrate the building&#39\;s dedication in 1957\, and 55 years of quality education. The event is being organized by the Cedar PTO and will take place Friday\, 1/27/12\, 2:00PM in the Cedar multipurpose room\, 201 S. Cedar Street\, Beatrice. Guests may use the main entrance on the south east end of the building. Please note there is no parking on Cedar Street\, which is used for school bus parking.
LOCATION:Cedar multipurpose room\, 201 S. Cedar Street\, Beatrice. Guests may use the main entrance on the south east end of the building. Please note there is no parking on Cedar Street\, which is used for school bus parking.
UID:e.41.5287
SEQUENCE:3
DTSTAMP:20260422T201932Z
URL:https://business.beatricechamber.com/events/details/cedar-elementary-school-55th-birthday-party-01-27-2012-5287
END:VEVENT

END:VCALENDAR
