BEGIN:VCALENDAR
VERSION:2.0
PRODID:-//ChamberMaster//Event Calendar 2.0//EN
METHOD:PUBLISH
X-PUBLISHED-TTL:P3D
REFRESH-INTERVAL:P3D
CALSCALE:GREGORIAN
BEGIN:VEVENT
DTSTART;VALUE=DATE:20101231
DTEND;VALUE=DATE:20110101
TRANSP:TRANSPARENT
X-MICROSOFT-CDO-ALLDAYEVENT:TRUE
SUMMARY:Celebrate New Year's 2011
DESCRIPTION:Celebrate New Year's\n\nFriday\, December 31st\n\n\n\nClassic's Bar & Grill\n\n1301 Oak Street\, Beatrice\n\n\n\nEnjoy our dinner buffet\, an array of dishes & appetizers\n\nServing 6 - 8:30 p.m.\n\n\n\nLive Band & Dance\n\n9 p.m. - 12:30 a.m.\n\n\n\nDinner\, Band & Champagne Toast - $30\n\nor Band Cover & Champagne Toast - $10\n\n\n\nPurchase your tickets in advance!  223-1456  www.classicsbarandgrill.net
X-ALT-DESC;FMTTYPE=text/html:Celebrate New Year&#39\;s<br />\nFriday\, December 31st<br />\n<br />\nClassic&#39\;s Bar &amp\; Grill<br />\n1301 Oak Street\, Beatrice<br />\n<br />\nEnjoy our dinner buffet\, an array of dishes &amp\; appetizers<br />\nServing 6 - 8:30 p.m.<br />\n<br />\nLive Band &amp\; Dance<br />\n9 p.m. - 12:30 a.m.<br />\n<br />\nDinner\, Band &amp\; Champagne Toast - $30<br />\nor Band Cover &amp\; Champagne Toast - $10<br />\n<br />\nPurchase your tickets in advance!&nbsp\; 223-1456&nbsp\; <a href="http://www.classicsbarandgrill.net">www.classicsbarandgrill.net</a>
LOCATION:
UID:e.41.3161
SEQUENCE:3
DTSTAMP:20260425T015019Z
URL:https://business.beatricechamber.com/events/details/celebrate-new-year-s-2011-12-31-2010-3161
END:VEVENT

END:VCALENDAR
