BEGIN:VCALENDAR
VERSION:2.0
PRODID:-//ChamberMaster//Event Calendar 2.0//EN
METHOD:PUBLISH
X-PUBLISHED-TTL:P3D
REFRESH-INTERVAL:P3D
CALSCALE:GREGORIAN
BEGIN:VEVENT
DTSTART;VALUE=DATE:20110605
DTEND;VALUE=DATE:20110606
TRANSP:TRANSPARENT
X-MICROSOFT-CDO-ALLDAYEVENT:TRUE
SUMMARY:Celebrate Wildflower Week
DESCRIPTION:Celebrate Wildflower Week by joining Homestead National Monument of America's Natural Resource Specialist Jess Bolli Sunday\, June 5 for a 2 pm exploration of the monument's wildflowers.\n\n\n\nThe program will begin at the monument's Education Center.  The first 20 participants will receive a small plant press to preserve their memories of the wildflowers encountered during their visit to Homestead. \n\n\n\nThe event is part of Nebraska's Wildflower Week Celebration\, a week proclaimed by Nebraska Governor Dave Heineman.
X-ALT-DESC;FMTTYPE=text/html:Celebrate Wildflower Week by joining Homestead National Monument of America&#39\;s Natural Resource Specialist Jess Bolli Sunday\, June 5 for a 2 pm exploration of the monument&#39\;s wildflowers.<br />\n<br />\nThe program will begin at the monument&#39\;s Education Center.&nbsp\; The first 20 participants will receive a small plant press to preserve their memories of the wildflowers encountered during their visit to Homestead.&nbsp\;<br />\n<br />\nThe event is part of Nebraska&#39\;s Wildflower Week Celebration\, a week proclaimed by Nebraska Governor Dave Heineman.
LOCATION:
UID:e.41.4846
SEQUENCE:3
DTSTAMP:20260424T165606Z
URL:https://business.beatricechamber.com/events/details/celebrate-wildflower-week-06-05-2011-4846
END:VEVENT

END:VCALENDAR
