BEGIN:VCALENDAR
VERSION:2.0
PRODID:-//ChamberMaster//Event Calendar 2.0//EN
METHOD:PUBLISH
X-PUBLISHED-TTL:P3D
REFRESH-INTERVAL:P3D
CALSCALE:GREGORIAN
BEGIN:VEVENT
DTSTART:20110123T200000Z
DTEND:20110206T210000Z
X-MICROSOFT-CDO-ALLDAYEVENT:FALSE
SUMMARY:Celebrate Your National Park Film Festival at Homestead
DESCRIPTION:In celebration of our 75th anniversary as a National Park Service site\, Homestead National Monument of America is excited to start the year with a ?Celebrate Your National Parks? Film Festival at the Education Center at 2 pm on Sundays\, January 16\, 23\, & 30\, and February 6\, 2011.  For this film festival\, Homestead will be showing official films from other National Park Service sites in the region\, such as Tallgrass Prairie National Preserve in Kansas\, Pipestone National Monument in Minnesota\, Scottsbluff National Monument in Nebraska\, and Herbert Hoover National Historic Site in Iowa.  Films are appropriate for people of all ages.\n\n\n\nOn January 16\, visitors will enjoy films from National Park Service sites from Nebraska and Minnesota - Scottsbluff National Monument\, Agate Fossil Beds National Monument\, and Pipestone National Monument.  Films from Kansas will be featured on January 23 - Tallgrass Prairie National Preserve\, Brown vs. Board of Education National Historic Site\, Fort Larned National Historic Site\, and Fort Scott National Historic Site.  January 30 will feature films from South Dakota - Minuteman Missile National Historic Site\, Badlands National Park\, Wind Cave National Park\, and Jewel Cave National Monument. The final films will be shown on February 6 and will feature sites in Iowa and Missouri - Effigy Mounds National Monument\, Herbert Hoover National Historic Site\, and Harry S. Truman National Historic Site.  \n\n\n\n?Homestead was established as a National Park Service site in 1936\, 75 years ago. We want to encourage people to visit Homestead again and again while also venturing out and visiting other National Park Service sites in their backyard\,? stated Mark Engler\, Superintendent of Homestead National Monument of America.
X-ALT-DESC;FMTTYPE=text/html:In celebration of our 75th anniversary as a National Park Service site\, Homestead National Monument of America is excited to start the year with a ?Celebrate Your National Parks? Film Festival at the Education Center at 2 pm on Sundays\, January 16\, 23\, &amp\; 30\, and February 6\, 2011.  For this film festival\, Homestead will be showing official films from other National Park Service sites in the region\, such as Tallgrass Prairie National Preserve in Kansas\, Pipestone National Monument in Minnesota\, Scottsbluff National Monument in Nebraska\, and Herbert Hoover National Historic Site in Iowa.  Films are appropriate for people of all ages.\n<br>\n<br>On January 16\, visitors will enjoy films from National Park Service sites from Nebraska and Minnesota - Scottsbluff National Monument\, Agate Fossil Beds National Monument\, and Pipestone National Monument.  Films from Kansas will be featured on January 23 - Tallgrass Prairie National Preserve\, Brown vs. Board of Education National Historic Site\, Fort Larned National Historic Site\, and Fort Scott National Historic Site.  January 30 will feature films from South Dakota - Minuteman Missile National Historic Site\, Badlands National Park\, Wind Cave National Park\, and Jewel Cave National Monument. The final films will be shown on February 6 and will feature sites in Iowa and Missouri - Effigy Mounds National Monument\, Herbert Hoover National Historic Site\, and Harry S. Truman National Historic Site.  \n<br>\n<br>?Homestead was established as a National Park Service site in 1936\, 75 years ago. We want to encourage people to visit Homestead again and again while also venturing out and visiting other National Park Service sites in their backyard\,? stated Mark Engler\, Superintendent of Homestead National Monument of America.\n<br>
LOCATION:Homestead National Monument of America Education Center
UID:e.41.3170
SEQUENCE:3
DTSTAMP:20260424T230054Z
URL:https://business.beatricechamber.com/events/details/celebrate-your-national-park-film-festival-at-homestead-01-23-2011-3170
END:VEVENT

END:VCALENDAR
