BEGIN:VCALENDAR
VERSION:2.0
PRODID:-//ChamberMaster//Event Calendar 2.0//EN
METHOD:PUBLISH
X-PUBLISHED-TTL:P3D
REFRESH-INTERVAL:P3D
CALSCALE:GREGORIAN
BEGIN:VEVENT
DTSTART:20110614T140000Z
DTEND:20110619T220000Z
X-MICROSOFT-CDO-ALLDAYEVENT:FALSE
SUMMARY:Celebrating actor Robert Taylor's 100th Birthday & other Screen Celebrities
DESCRIPTION:"That's Entertainment--Celebrating actor Robert Taylor's 100th Birthday and other stage and screen celebrities from Gage County.  This is a week long event. \n\n\n\nStarts at 9 a.m.- 5:00 p.m. at the Gage County Museum at 2nd and Court Street\, Beatrice.\n\n\n\nFor more information call 402-228-1679.
X-ALT-DESC;FMTTYPE=text/html:&quot\;That&#39\;s Entertainment--Celebrating actor Robert Taylor&#39\;s 100th Birthday and other stage and screen celebrities from Gage County.&nbsp\; This is a week long event.&nbsp\;<br />\n<br />\nStarts at 9 a.m.- 5:00 p.m. at the Gage County Museum at 2nd and Court Street\, Beatrice.<br />\n<br />\nFor more information call 402-228-1679.
LOCATION:
UID:e.41.4877
SEQUENCE:3
DTSTAMP:20260424T165906Z
URL:https://business.beatricechamber.com/events/details/celebrating-actor-robert-taylor-s-100th-birthday-other-screen-celebrities-06-14-2011-4877
END:VEVENT

END:VCALENDAR
