BEGIN:VCALENDAR
VERSION:2.0
PRODID:-//ChamberMaster//Event Calendar 2.0//EN
METHOD:PUBLISH
X-PUBLISHED-TTL:P3D
REFRESH-INTERVAL:P3D
CALSCALE:GREGORIAN
BEGIN:VEVENT
DTSTART;VALUE=DATE:20110731
DTEND;VALUE=DATE:20110801
TRANSP:TRANSPARENT
X-MICROSOFT-CDO-ALLDAYEVENT:TRUE
SUMMARY:Centenary United Methodist Church Combined Workship Service
DESCRIPTION:Service starts at 11 a.m.\, 6th and Elk\, Beatrice.  No services at 8 a.m. or 9 a.m.  Followed by a potluck dinner in the dining room.  Bring a dish to share and table services.  Drinks provided.
X-ALT-DESC;FMTTYPE=text/html:Service starts at 11 a.m.\, 6th and Elk\, Beatrice.&nbsp\; No services at 8 a.m. or 9 a.m.&nbsp\; Followed by a potluck dinner in the dining room.&nbsp\; Bring a dish to share and table services.&nbsp\; Drinks provided.
LOCATION:
UID:e.41.4994
SEQUENCE:3
DTSTAMP:20260424T154147Z
URL:https://business.beatricechamber.com/events/details/centenary-united-methodist-church-combined-workship-service-07-31-2011-4994
END:VEVENT

END:VCALENDAR
