BEGIN:VCALENDAR
VERSION:2.0
PRODID:-//ChamberMaster//Event Calendar 2.0//EN
METHOD:PUBLISH
X-PUBLISHED-TTL:P3D
REFRESH-INTERVAL:P3D
CALSCALE:GREGORIAN
BEGIN:VEVENT
DTSTART:20110821T180000Z
DTEND:20110821T200000Z
X-MICROSOFT-CDO-ALLDAYEVENT:FALSE
SUMMARY:Chad and Rosanna Rinne and Judy Bauman in Concert
DESCRIPTION:1-3 p.m.\, Old West Trails Center\, Main Street in Odell.
X-ALT-DESC;FMTTYPE=text/html:1-3 p.m.\, Old West Trails Center\, Main Street in Odell.
LOCATION:
UID:e.41.5048
SEQUENCE:3
DTSTAMP:20260424T141112Z
URL:https://business.beatricechamber.com/events/details/chad-and-rosanna-rinne-and-judy-bauman-in-concert-08-21-2011-5048
END:VEVENT

END:VCALENDAR
