BEGIN:VCALENDAR
VERSION:2.0
PRODID:-//ChamberMaster//Event Calendar 2.0//EN
METHOD:PUBLISH
X-PUBLISHED-TTL:P3D
REFRESH-INTERVAL:P3D
CALSCALE:GREGORIAN
BEGIN:VEVENT
DTSTART:20110618T160000Z
DTEND:20110618T220000Z
X-MICROSOFT-CDO-ALLDAYEVENT:FALSE
SUMMARY:Chain Artist\, Blair Smith
DESCRIPTION:Chain Artist Blair Smith is at Chautauqua Park from 11 a.m.-5 p.m.
X-ALT-DESC;FMTTYPE=text/html:<p>\n	Chain Artist Blair Smith is at Chautauqua Park from 11 a.m.-5 p.m.</p>\n
LOCATION:
UID:e.41.4899
SEQUENCE:3
DTSTAMP:20260424T165605Z
URL:https://business.beatricechamber.com/events/details/chain-artist-blair-smith-06-18-2011-4899
END:VEVENT

END:VCALENDAR
