BEGIN:VCALENDAR
VERSION:2.0
PRODID:-//ChamberMaster//Event Calendar 2.0//EN
METHOD:PUBLISH
X-PUBLISHED-TTL:P3D
REFRESH-INTERVAL:P3D
CALSCALE:GREGORIAN
BEGIN:VEVENT
DTSTART;VALUE=DATE:20100122
DTEND;VALUE=DATE:20100123
TRANSP:TRANSPARENT
X-MICROSOFT-CDO-ALLDAYEVENT:TRUE
SUMMARY:Chamber Annual Banquet
DESCRIPTION:Theme:  "The Gong Show"
X-ALT-DESC;FMTTYPE=text/html:<div>Theme:&nbsp\; &quot\;The Gong Show&quot\;</div>
LOCATION:Classic'sBeatrice Country Club13th & Oak
UID:e.41.1436
SEQUENCE:3
DTSTAMP:20260425T181329Z
URL:https://business.beatricechamber.com/events/details/chamber-annual-banquet-01-22-2010-1436
END:VEVENT

END:VCALENDAR
