BEGIN:VCALENDAR
VERSION:2.0
PRODID:-//ChamberMaster//Event Calendar 2.0//EN
METHOD:PUBLISH
X-PUBLISHED-TTL:P3D
REFRESH-INTERVAL:P3D
CALSCALE:GREGORIAN
BEGIN:VEVENT
DTSTART;VALUE=DATE:20120127
DTEND;VALUE=DATE:20120128
TRANSP:TRANSPARENT
X-MICROSOFT-CDO-ALLDAYEVENT:TRUE
SUMMARY:Chamber Annual Fundraiser Banquet "Grow Beatrice"
DESCRIPTION:Beatrice Area Chamber of Commerce presents \n\n	our Annual Fundraiser Banquet\, "Grow Beatrice"\n\n	Friday\, January 27\, 2012\n\n	\n\n	 \n\n	Watch for details...introducing a delectable dessert auction at this year's event!\n\n	\n\n	www.beatricechamber.com
X-ALT-DESC;FMTTYPE=text/html:<p>\n	<span style="font-size: 20px"><span style="font-family: arial"><em>Beatrice Area Chamber of Commerce presents </em><br />\n	our<strong> Annual Fundraiser Banquet\, </strong></span></span><strong><span style="font-size: 20px"><span style="font-family: arial">&quot\;Grow Beatrice&quot\;</span></span></strong></p>\n<p>\n	<span style="font-family: arial"><span style="font-size: 18px">Friday\, January 27\, 2012</span></span><br />\n	<br />\n	&nbsp\;</p>\n<p style="text-align: right">\n	<span style="font-family: times new roman"><span style="font-size: 18px"><em>Watch for details...introducing a delectable dessert auction at this year&#39\;s event!</em></span></span></p>\n<p>\n	<br />\n	<span style="font-family: arial"><a href="http://www.beatricechamber.com">www.beatricechamber.com</a></span></p>\n
LOCATION:
UID:e.41.5134
SEQUENCE:3
DTSTAMP:20260422T202935Z
URL:https://business.beatricechamber.com/events/details/chamber-annual-fundraiser-banquet-grow-beatrice-01-27-2012-5134
END:VEVENT

END:VCALENDAR
