BEGIN:VCALENDAR
VERSION:2.0
PRODID:-//ChamberMaster//Event Calendar 2.0//EN
METHOD:PUBLISH
X-PUBLISHED-TTL:P3D
REFRESH-INTERVAL:P3D
CALSCALE:GREGORIAN
BEGIN:VEVENT
DTSTART;VALUE=DATE:20111018
DTEND;VALUE=DATE:20111019
TRANSP:TRANSPARENT
X-MICROSOFT-CDO-ALLDAYEVENT:TRUE
SUMMARY:Chamber Board of Directors Meeting
DESCRIPTION:Beatrice Area Chamber of Commerce\n\nBoard of Directors Meeting\n\n\n\nNoon\n\nBeatrice City Auditorium Conference Room\n\n205 N 4th Street
X-ALT-DESC;FMTTYPE=text/html:Beatrice Area Chamber of Commerce<br />\nBoard of Directors Meeting<br />\n<br />\nNoon<br />\nBeatrice City Auditorium Conference Room<br />\n205 N 4th Street<br />\n<br />\n
LOCATION:
UID:e.41.3271
SEQUENCE:3
DTSTAMP:20260424T111707Z
URL:https://business.beatricechamber.com/events/details/chamber-board-of-directors-meeting-10-18-2011-3271
END:VEVENT

END:VCALENDAR
