BEGIN:VCALENDAR
VERSION:2.0
PRODID:-//ChamberMaster//Event Calendar 2.0//EN
METHOD:PUBLISH
X-PUBLISHED-TTL:P3D
REFRESH-INTERVAL:P3D
CALSCALE:GREGORIAN
BEGIN:VEVENT
DTSTART;VALUE=DATE:20111010
DTEND;VALUE=DATE:20111011
TRANSP:TRANSPARENT
X-MICROSOFT-CDO-ALLDAYEVENT:TRUE
SUMMARY:Chamber Executive Board of Directors Meeting
DESCRIPTION:Beatrice Area Chamber of Commerce Executive Board Meeting\n\n	\n\n	Monday\, October 10\n\n	Noon\n\n	\n\n	City Auditorium Conference Room\n\n	\n\n	More information: 402-223-2338\n\n	www.beatricechamber.com
X-ALT-DESC;FMTTYPE=text/html:<p>\n	Beatrice Area Chamber of Commerce Executive Board Meeting<br />\n	<br />\n	Monday\, October 10<br />\n	Noon<br />\n	<br />\n	City Auditorium Conference Room<br />\n	<br />\n	More information: 402-223-2338<br />\n	<a href="http://www.beatricechamber.com">www.beatricechamber.com</a></p>\n
LOCATION:
UID:e.41.5142
SEQUENCE:3
DTSTAMP:20260424T111707Z
URL:https://business.beatricechamber.com/events/details/chamber-executive-board-of-directors-meeting-10-10-2011-5142
END:VEVENT

END:VCALENDAR
