BEGIN:VCALENDAR
VERSION:2.0
PRODID:-//ChamberMaster//Event Calendar 2.0//EN
METHOD:PUBLISH
X-PUBLISHED-TTL:P3D
REFRESH-INTERVAL:P3D
CALSCALE:GREGORIAN
BEGIN:VEVENT
DTSTART;VALUE=DATE:20110603
DTEND;VALUE=DATE:20110604
TRANSP:TRANSPARENT
X-MICROSOFT-CDO-ALLDAYEVENT:TRUE
SUMMARY:CHAMBER GOLF OUTING 6/3/2011
DESCRIPTION:Beatrice Area Chamber of Commerce\n\n	Annual Golf Outing\n\n	 \n\n	Friday\, June 3\, 2011\n\n	Beatrice Country Club\n\n	 \n\n	11:30 - 12:30 pm: Check-in and Lunch with Classic's Bar & Grill\n\n	12:30 pm: Shotgun Start\n\n	5:30 pm: Awards\n\n	5:00 - 7:00 pm: Business After Hours\, sponsored by Security First Bank\n\n	 \n\n	For more information\, contact Beatrice Area Chamber of Commerce\, 402-223-2338 or visit www.beatricechamber.com.
X-ALT-DESC;FMTTYPE=text/html:<div>\n	<span style="font-size: 16px">Beatrice Area Chamber of Commerce</span></div>\n<div>\n	<strong><span style="font-size: 16px">Annual Golf Outing</span></strong></div>\n<div>\n	<span style="font-size: 16px">&nbsp\;</span></div>\n<div>\n	<span style="font-size: 16px">Friday\, June 3\, 2011<br />\n	Beatrice Country Club</span></div>\n<div>\n	&nbsp\;</div>\n<div>\n	11:30 - 12:30 pm: Check-in and Lunch with Classic&#39\;s Bar &amp\; Grill</div>\n<div>\n	12:30 pm: Shotgun Start</div>\n<div>\n	5:30 pm: Awards</div>\n<div>\n	5:00 - 7:00 pm: Business After Hours\, sponsored by Security First Bank</div>\n<div>\n	&nbsp\;</div>\n<div>\n	For more information\, contact Beatrice Area Chamber of Commerce\, 402-223-2338 or visit <a href="http://www.beatricechamber.com">www.beatricechamber.com</a>.</div>
LOCATION:Beatrice Country Club13th & OakBeatrice\, NE
UID:e.41.4207
SEQUENCE:3
DTSTAMP:20260424T165411Z
URL:https://business.beatricechamber.com/events/details/chamber-golf-outing-6-3-2011-06-03-2011-4207
END:VEVENT

END:VCALENDAR
