BEGIN:VCALENDAR
VERSION:2.0
PRODID:-//ChamberMaster//Event Calendar 2.0//EN
METHOD:PUBLISH
X-PUBLISHED-TTL:P3D
REFRESH-INTERVAL:P3D
CALSCALE:GREGORIAN
BEGIN:VEVENT
DTSTART;VALUE=DATE:20100604
DTEND;VALUE=DATE:20100605
TRANSP:TRANSPARENT
X-MICROSOFT-CDO-ALLDAYEVENT:TRUE
SUMMARY:Chamber Golf Outing 6/4/10
DESCRIPTION:Beatrice Area Chamber of CommerceAnnual Golf Outing Friday\, June 4\, 2010Beatrice Country Club 11:30 - 12:30 pm: Check-in and Lunch12:30 pm: Shotgun Start5:30 pm: Awards5:00 - 7:00 pm: Business After Hours\, sponsored by Security First Bank For more information\, contact Beatrice Area Chamber of Commerce\, 402-223-2338 or visit www.beatricechamber.com.
X-ALT-DESC;FMTTYPE=text/html:<div>Beatrice Area Chamber of Commerce</div><div>Annual Golf Outing</div><div>&nbsp\;</div><div>Friday\, June 4\, 2010</div><div>Beatrice Country Club</div><div>&nbsp\;</div><div>11:30 - 12:30 pm: Check-in and Lunch</div><div>12:30 pm: Shotgun Start</div><div>5:30 pm: Awards</div><div>5:00 - 7:00 pm: Business After Hours\, sponsored by Security First Bank</div><div>&nbsp\;</div><div>For more information\, contact Beatrice Area Chamber of Commerce\, 402-223-2338 or visit <a href="http://www.beatricechamber.com">www.beatricechamber.com</a>.</div><div>&nbsp\;</div>
LOCATION:Beatrice Country Club13th & OakBeatrice\, NE
UID:e.41.1942
SEQUENCE:3
DTSTAMP:20260425T105330Z
URL:https://business.beatricechamber.com/events/details/chamber-golf-outing-6-4-10-06-04-2010-1942
END:VEVENT

END:VCALENDAR
