BEGIN:VCALENDAR
VERSION:2.0
PRODID:-//ChamberMaster//Event Calendar 2.0//EN
METHOD:PUBLISH
X-PUBLISHED-TTL:P3D
REFRESH-INTERVAL:P3D
CALSCALE:GREGORIAN
BEGIN:VEVENT
DTSTART;VALUE=DATE:20111021
DTEND;VALUE=DATE:20111022
TRANSP:TRANSPARENT
X-MICROSOFT-CDO-ALLDAYEVENT:TRUE
SUMMARY:Chamber Night with SCC Storm
DESCRIPTION:Beatrice Area Chamber of Commerce's Night with SCC Storm Volleyball\n\nFriday\, October 21\n\n6:30 pm\n\n\n\nat Southeast Community College Truman Center\n\n\n\nSCC Lady Storm vs. Kansas City\, ks community college\n\n\n\nFree Admission for Chamber members\n\n\n\n Come out for some great college volleyball at the Truman Center\n\n \n\nSponsored by:\n\nThe Tropical Tan\n\n201 N 25th\, Beatrice
X-ALT-DESC;FMTTYPE=text/html:<span style="font-size: 16px"><span style="font-family: comic sans ms">Beatrice Area Chamber of Commerce&#39\;s&nbsp\;Night with SCC Storm Volleyball<br />\nFriday\, October 21<br />\n6:30 pm<br />\n<br />\nat Southeast Community College Truman Center</span></span><br />\n<br />\n<span style="font-size: 12px"><span style="font-weight: normal\; language: en-us"><span style="font-family: unicorn">SCC Lady Storm </span></span><span style="font-weight: normal\; language: en-us"><span style="font-family: unicorn">vs. </span></span><span style="font-weight: normal\; language: en-us"><span style="font-family: unicorn">Kansas City\, ks </span></span><span style="font-weight: normal\; language: en-us"><span style="font-family: unicorn">community college</span></span></span><br />\n<br />\n<span style="font-size: 12px"><span style="font-weight: normal\; language: en-us"><span style="font-family: unicorn"><span style="font-style: italic\; language: en-us"><span style="font-family: unicorn">Free Admission for Chamber members<br />\n<br />\n&nbsp\;<span style="language: en-us"><span style="font-size: 26pt"><span style="font-family: cooper black">Come out for some great </span></span></span><span style="language: en-us"><span style="font-size: 26pt"><span style="font-family: cooper black">college volleyball at the Truman Center</span></span></span><br />\n&nbsp\;<br />\n<span style="language: en-us"><span style="font-size: 14pt"><span style="font-family: cooper black">Sponsored by:</span></span></span><br />\n<span style="font-weight: bold\; language: en-us"><span style="font-size: 22pt"><span style="color: #080006"><span style="font-family: palatino linotype">The Tropical Tan</span></span></span></span><br />\n<span style="font-weight: bold\; language: en-us"><span style="font-size: 22pt"><span style="color: #080006"><span style="font-family: palatino linotype">201 N 25th\, Beatrice</span></span></span></span><br />\n&nbsp\;</span></span><br />\n<br />\n&nbsp\;</span></span></span><br />\n<br />\n<br />\n<br />\n&nbsp\;<br />\n
LOCATION:
UID:e.41.5186
SEQUENCE:3
DTSTAMP:20260424T111259Z
URL:https://business.beatricechamber.com/events/details/chamber-night-with-scc-storm-10-21-2011-5186
END:VEVENT

END:VCALENDAR
