BEGIN:VCALENDAR
VERSION:2.0
PRODID:-//ChamberMaster//Event Calendar 2.0//EN
METHOD:PUBLISH
X-PUBLISHED-TTL:P3D
REFRESH-INTERVAL:P3D
CALSCALE:GREGORIAN
BEGIN:VEVENT
DTSTART;VALUE=DATE:20110208
DTEND;VALUE=DATE:20110209
TRANSP:TRANSPARENT
X-MICROSOFT-CDO-ALLDAYEVENT:TRUE
SUMMARY:Chamber Night with SCC Storm Basketball
DESCRIPTION:Chamber Night with SCC Storm Basketball\n\nsponsored by The Tropical Tan\n\n\n\nTuesday\, February 8th\n\n5:30/7:30 p.m.\n\n\n\nSoutheast Community College Truman Center\, Beatrice Campus\n\n\n\nFree admission for Chamber members!  Contact the Chamber office to reserve your tickets! (402)223-2338
X-ALT-DESC;FMTTYPE=text/html:Chamber Night with SCC Storm Basketball<br />\nsponsored by The Tropical Tan<br />\n<br />\nTuesday\, February 8th<br />\n5:30/7:30 p.m.<br />\n<br />\nSoutheast Community College Truman Center\, Beatrice Campus<br />\n<br />\nFree admission for Chamber members!&nbsp\; Contact the Chamber office to reserve your tickets! (402)223-2338<br />\n
LOCATION:
UID:e.41.3767
SEQUENCE:3
DTSTAMP:20260424T225754Z
URL:https://business.beatricechamber.com/events/details/chamber-night-with-scc-storm-basketball-02-08-2011-3767
END:VEVENT

END:VCALENDAR
