BEGIN:VCALENDAR
VERSION:2.0
PRODID:-//ChamberMaster//Event Calendar 2.0//EN
METHOD:PUBLISH
X-PUBLISHED-TTL:P3D
REFRESH-INTERVAL:P3D
CALSCALE:GREGORIAN
BEGIN:VEVENT
DTSTART:20091021T223000Z
DTEND:20091022T000000Z
X-MICROSOFT-CDO-ALLDAYEVENT:FALSE
SUMMARY:Chamber Night with the Storm
DESCRIPTION:Chamber Night with the StormSponsored by "The Body Zone"  Join the Chamber at Southeast Community College as the Lady Storm Volleyball Team takes on Highland. Parents Night/ Welcome Back BBQFun & Games during the break!
X-ALT-DESC;FMTTYPE=text/html:<div><font face="Comic Sans MS" color="#000000" size="3" style="background-color: #ffffff">Chamber Night with the Storm</font></div><div><font face="Comic Sans MS" color="#000000" size="3" style="background-color: #ffffff">Sponsored by &quot\;The Body Zone&quot\; </font></div><div>&nbsp\;</div><div><font face="Comic Sans MS" color="#000000" size="3" style="background-color: #ffffff">Join the Chamber at Southeast Community College as the </font></div><div><font face="Comic Sans MS" color="#000000" size="3" style="background-color: #ffffff">Lady Storm Volleyball Team takes on Highland. </font></div><div><font face="Comic Sans MS" color="#000000" size="3" style="background-color: #ffffff">Parents Night/ Welcome Back BBQ</font></div><div><font face="Comic Sans MS" color="#000000" size="3" style="background-color: #ffffff">Fun &amp\; Games during the break!</font></div><div>&nbsp\;</div><div>&nbsp\;</div>
LOCATION:Truman Center @ Southeast Community College
UID:e.41.1409
SEQUENCE:3
DTSTAMP:20260425T222058Z
URL:https://business.beatricechamber.com/events/details/chamber-night-with-the-storm-10-21-2009-1409
END:VEVENT

END:VCALENDAR
