BEGIN:VCALENDAR
VERSION:2.0
PRODID:-//ChamberMaster//Event Calendar 2.0//EN
METHOD:PUBLISH
X-PUBLISHED-TTL:P3D
REFRESH-INTERVAL:P3D
CALSCALE:GREGORIAN
BEGIN:VEVENT
DTSTART;VALUE=DATE:20100101
DTEND;VALUE=DATE:20100102
TRANSP:TRANSPARENT
X-MICROSOFT-CDO-ALLDAYEVENT:TRUE
SUMMARY:Chamber Office Closed
DESCRIPTION:Celebrate the Happy New Year Safely! The chamber office will be closed at Noon on Thursday\, December 31st and all day Friday\, January 1\, 2010
X-ALT-DESC;FMTTYPE=text/html:<div><div>Celebrate the Happy New Year Safely!</div><div>&nbsp\;</div><div>The chamber office will be closed at Noon on Thursday\, December 31st and all day Friday\, January 1\, 2010</div></div>
LOCATION:
UID:e.41.1573
SEQUENCE:3
DTSTAMP:20260425T181135Z
URL:https://business.beatricechamber.com/events/details/chamber-office-closed-01-01-2010-1573
END:VEVENT

END:VCALENDAR
