BEGIN:VCALENDAR
VERSION:2.0
PRODID:-//ChamberMaster//Event Calendar 2.0//EN
METHOD:PUBLISH
X-PUBLISHED-TTL:P3D
REFRESH-INTERVAL:P3D
CALSCALE:GREGORIAN
BEGIN:VEVENT
DTSTART;VALUE=DATE:20100531
DTEND;VALUE=DATE:20100601
TRANSP:TRANSPARENT
X-MICROSOFT-CDO-ALLDAYEVENT:TRUE
SUMMARY:Chamber Office Closed 5/31/2010
DESCRIPTION:Closed in observance of Memorial Day
X-ALT-DESC;FMTTYPE=text/html:<div>Closed in observance of Memorial Day</div>
LOCATION:
UID:e.41.2019
SEQUENCE:3
DTSTAMP:20260425T122620Z
URL:https://business.beatricechamber.com/events/details/chamber-office-closed-5-31-2010-05-31-2010-2019
END:VEVENT

END:VCALENDAR
