BEGIN:VCALENDAR
VERSION:2.0
PRODID:-//ChamberMaster//Event Calendar 2.0//EN
METHOD:PUBLISH
X-PUBLISHED-TTL:P3D
REFRESH-INTERVAL:P3D
CALSCALE:GREGORIAN
BEGIN:VEVENT
DTSTART;VALUE=DATE:20091224
DTEND;VALUE=DATE:20091225
TRANSP:TRANSPARENT
X-MICROSOFT-CDO-ALLDAYEVENT:TRUE
SUMMARY:Chamber Office Closed at Noon
DESCRIPTION:Merry Christmas Our office will be closed at Noon on Thursday 12/24 and all day  Friday\, Christmas Eve and Christmas Day.
X-ALT-DESC;FMTTYPE=text/html:<div><span style="color: #003300"><span style="font-family: Comic Sans MS"><span style="font-size: small"><strong>Merry Christmas</strong></span></span></span></div><div>&nbsp\;</div><div><span style="color: #003300">Our office will be closed at Noon on Thursday 12/24 and all day&nbsp\; Friday\, Christmas Eve and Christmas Day. </span></div>
LOCATION:
UID:e.41.1503
SEQUENCE:3
DTSTAMP:20260425T194015Z
URL:https://business.beatricechamber.com/events/details/chamber-office-closed-at-noon-12-24-2009-1503
END:VEVENT

END:VCALENDAR
