BEGIN:VCALENDAR
VERSION:2.0
PRODID:-//ChamberMaster//Event Calendar 2.0//EN
METHOD:PUBLISH
X-PUBLISHED-TTL:P3D
REFRESH-INTERVAL:P3D
CALSCALE:GREGORIAN
BEGIN:VEVENT
DTSTART;VALUE=DATE:20091231
DTEND;VALUE=DATE:20100101
TRANSP:TRANSPARENT
X-MICROSOFT-CDO-ALLDAYEVENT:TRUE
SUMMARY:Chamber Office Closed at Noon
DESCRIPTION:Celebrate the Happy New Year Safely! The chamber office will be closed at Noon on Thursday\, December 31st and all day Friday\, January 1\, 2010
X-ALT-DESC;FMTTYPE=text/html:<div>Celebrate the Happy New Year Safely!</div><div>&nbsp\;</div><div>The chamber office will be closed at Noon on Thursday\, December 31st and all day Friday\, January 1\, 2010</div>
LOCATION:
UID:e.41.1562
SEQUENCE:3
DTSTAMP:20260425T194048Z
URL:https://business.beatricechamber.com/events/details/chamber-office-closed-at-noon-12-31-2009-1562
END:VEVENT

END:VCALENDAR
