BEGIN:VCALENDAR
VERSION:2.0
PRODID:-//ChamberMaster//Event Calendar 2.0//EN
METHOD:PUBLISH
X-PUBLISHED-TTL:P3D
REFRESH-INTERVAL:P3D
CALSCALE:GREGORIAN
BEGIN:VEVENT
DTSTART;VALUE=DATE:20090828
DTEND;VALUE=DATE:20090901
TRANSP:TRANSPARENT
X-MICROSOFT-CDO-ALLDAYEVENT:TRUE
SUMMARY:Chamber Office Closed - Moving Locations
DESCRIPTION:Sorry for the inconvenience\, but THANK YOU for your patience as we move into our new location in the City Auditorium Building 205 N 4th.  If you have some time to spare to help us move\, please give us a call at 223-2338.  Thanks!!
X-ALT-DESC;FMTTYPE=text/html:<div>Sorry for the inconvenience\, but THANK YOU for your patience as we move into our new location in the City Auditorium Building 205 N 4th.&nbsp\;</div><div>&nbsp\;</div><div>If you have some time to spare to help us move\, please give us a call at 223-2338.&nbsp\; Thanks!!</div>
LOCATION:
UID:e.41.1337
SEQUENCE:3
DTSTAMP:20260426T011845Z
URL:https://business.beatricechamber.com/events/details/chamber-office-closed-moving-locations-08-28-2009-1337
END:VEVENT

END:VCALENDAR
