BEGIN:VCALENDAR
VERSION:2.0
PRODID:-//ChamberMaster//Event Calendar 2.0//EN
METHOD:PUBLISH
X-PUBLISHED-TTL:P3D
REFRESH-INTERVAL:P3D
CALSCALE:GREGORIAN
BEGIN:VEVENT
DTSTART;VALUE=DATE:20120518
DTEND;VALUE=DATE:20120519
TRANSP:TRANSPARENT
X-MICROSOFT-CDO-ALLDAYEVENT:TRUE
SUMMARY:Chamber's Golf Outing 2012
DESCRIPTION:Beatrice Area Chamber of Commerce's Annual Golf Outing\n\n	\n\n	Friday\, May 18\n\n	\n\n	Beatrice Country Club\n\n	\n\n	Sponsorship & Team Registration Information at our home page of www.beatricechamber.com!
X-ALT-DESC;FMTTYPE=text/html:<p>\n	Beatrice Area Chamber of Commerce&#39\;s Annual Golf Outing<br />\n	<br />\n	Friday\, May 18<br />\n	<br />\n	Beatrice Country Club<br />\n	<br />\n	Sponsorship &amp\; Team Registration&nbsp\;Information at our home page of www.beatricechamber.com!<br />\n	&nbsp\;</p>\n
LOCATION:
UID:e.41.5321
SEQUENCE:3
DTSTAMP:20260422T142313Z
URL:https://business.beatricechamber.com/events/details/chamber-s-golf-outing-2012-05-18-2012-5321
END:VEVENT

END:VCALENDAR
