BEGIN:VCALENDAR
VERSION:2.0
PRODID:-//ChamberMaster//Event Calendar 2.0//EN
METHOD:PUBLISH
X-PUBLISHED-TTL:P3D
REFRESH-INTERVAL:P3D
CALSCALE:GREGORIAN
BEGIN:VEVENT
DTSTART;VALUE=DATE:20100513
DTEND;VALUE=DATE:20100514
TRANSP:TRANSPARENT
X-MICROSOFT-CDO-ALLDAYEVENT:TRUE
SUMMARY:Charles Park Rededication
DESCRIPTION:Charles Park Rededication Ceremony Thursday\, May 13\, 20105:30 - 6:30 p.m. Music by the Beatrice High School Jazz Band Sponsored by Main Street Beatrice\, with special thanks to Judy Trebold\, Exmark\, and the City of Beatrice.
X-ALT-DESC;FMTTYPE=text/html:<div>Charles Park Rededication Ceremony</div><div>&nbsp\;</div><div>Thursday\, May 13\, 2010</div><div>5:30 - 6:30 p.m.</div><div>&nbsp\;</div><div>Music by the Beatrice High School Jazz Band</div><div>&nbsp\;</div><div>Sponsored by Main Street Beatrice\, with special thanks to Judy Trebold\, Exmark\, and the City of Beatrice.</div>
LOCATION:
UID:e.41.1972
SEQUENCE:3
DTSTAMP:20260425T122418Z
URL:https://business.beatricechamber.com/events/details/charles-park-rededication-05-13-2010-1972
END:VEVENT

END:VCALENDAR
