BEGIN:VCALENDAR
VERSION:2.0
PRODID:-//ChamberMaster//Event Calendar 2.0//EN
METHOD:PUBLISH
X-PUBLISHED-TTL:P3D
REFRESH-INTERVAL:P3D
CALSCALE:GREGORIAN
BEGIN:VEVENT
DTSTART;VALUE=DATE:20120521
DTEND;VALUE=DATE:20120526
TRANSP:TRANSPARENT
X-MICROSOFT-CDO-ALLDAYEVENT:TRUE
SUMMARY:Chautauqua: "Free Land\, 1862 and the Shaping of Modern America"
DESCRIPTION:Chautauqua is an institution that began in the late 19th century to provide higher education opportunities through the combination of lectures\, concerts\, and public events. Traveling outdoor Chautauquas featured oratory\, drama\, music\, and famous personalities. \n\n	The Homestead Chautauqua will explore the different aspects and impacts of three interrelated pieces of legislation passed within 6 weeks of each other in 1862: The Homestead Act\, the Pacific Railway Act\, and the Morrill Act.
X-ALT-DESC;FMTTYPE=text/html:<p>\n	Chautauqua is an institution that began in the late 19th century to provide higher education opportunities through the combination of lectures\, concerts\, and public events. Traveling outdoor Chautauquas featured oratory\, drama\, music\, and famous personalities.&nbsp\;</p>\n<p>\n	The Homestead Chautauqua will explore the different aspects and impacts of three interrelated pieces of legislation passed within 6 weeks of each other in 1862: The Homestead Act\, the Pacific Railway Act\, and the Morrill Act.</p>\n
LOCATION:Homestead National Monument of America and locations in Beatrice\, NE
UID:e.41.5353
SEQUENCE:3
DTSTAMP:20260422T143007Z
URL:https://business.beatricechamber.com/events/details/chautauqua-free-land-1862-and-the-shaping-of-modern-america-05-21-2012-5353
END:VEVENT

END:VCALENDAR
