BEGIN:VCALENDAR
VERSION:2.0
PRODID:-//ChamberMaster//Event Calendar 2.0//EN
METHOD:PUBLISH
X-PUBLISHED-TTL:P3D
REFRESH-INTERVAL:P3D
CALSCALE:GREGORIAN
BEGIN:VEVENT
DTSTART;VALUE=DATE:20110901
DTEND;VALUE=DATE:20110902
TRANSP:TRANSPARENT
X-MICROSOFT-CDO-ALLDAYEVENT:TRUE
SUMMARY:"Cheering for a Cause" to Support Gracie Schultz
DESCRIPTION:6 p.m.\, Beatrice High School Cheerleaders will be collecting funds in megaphones starting at 6 p.m. before the game against Norris.  All funds go to Gracie's family for medical expenses.  Cheerleaders will be wearing purple ribbons for Gracie's favorite color.
X-ALT-DESC;FMTTYPE=text/html:6 p.m.\, Beatrice High School Cheerleaders will be collecting funds in megaphones starting at 6 p.m. before the game against Norris.&nbsp\; All funds go to Gracie&#39\;s family for medical expenses.&nbsp\; Cheerleaders will be wearing purple ribbons for Gracie&#39\;s favorite color.
LOCATION:
UID:e.41.5083
SEQUENCE:3
DTSTAMP:20260424T123013Z
URL:https://business.beatricechamber.com/events/details/cheering-for-a-cause-to-support-gracie-schultz-09-01-2011-5083
END:VEVENT

END:VCALENDAR
