BEGIN:VCALENDAR
VERSION:2.0
PRODID:-//ChamberMaster//Event Calendar 2.0//EN
METHOD:PUBLISH
X-PUBLISHED-TTL:P3D
REFRESH-INTERVAL:P3D
CALSCALE:GREGORIAN
BEGIN:VEVENT
DTSTART;VALUE=DATE:20110616
DTEND;VALUE=DATE:20110617
TRANSP:TRANSPARENT
X-MICROSOFT-CDO-ALLDAYEVENT:TRUE
SUMMARY:Chicken Barbecue at the Senior Center
DESCRIPTION:Starts at 5 p.m. at the Beatrice Senior Center\, 101 N. 25th\, Beatrice. \n\n\n\nAdvance reservations required.  Sponsored by East Beatrice Businesses.\n\n\n\nFor more information call 402-223-1357.
X-ALT-DESC;FMTTYPE=text/html:Starts at 5 p.m. at the Beatrice Senior Center\, 101 N. 25th\, Beatrice.&nbsp\;<br />\n<br />\nAdvance reservations required.&nbsp\; Sponsored by East Beatrice Businesses.<br />\n<br />\nFor more information call 402-223-1357.
LOCATION:
UID:e.41.4883
SEQUENCE:3
DTSTAMP:20260424T165907Z
URL:https://business.beatricechamber.com/events/details/chicken-barbecue-at-the-senior-center-06-16-2011-4883
END:VEVENT

END:VCALENDAR
