BEGIN:VCALENDAR
VERSION:2.0
PRODID:-//ChamberMaster//Event Calendar 2.0//EN
METHOD:PUBLISH
X-PUBLISHED-TTL:P3D
REFRESH-INTERVAL:P3D
CALSCALE:GREGORIAN
BEGIN:VEVENT
DTSTART:20110306T163000Z
DTEND:20110306T193000Z
X-MICROSOFT-CDO-ALLDAYEVENT:FALSE
SUMMARY:Chicken Barbeque
DESCRIPTION:Beatrice American Legion Post 27 is hosting its 10th annual Winter Chicken Barbeque March 6\, at the Legion Club\, 701 Dorsey St.\n\nOne-half chicken with all the trimmings\, along with ice cream\, will be served from 10:30 am to 1:30 pm. The cost is $8 per plate. Carry-out meals will be available. Advance tickets can be purchased at the club or from Legion members. All the proceeds will go toward the Legion's Children and Youth Programs\, including American Legion Baseball\, Boys State\, Boy Scouts\, County Government Day\, Junior Law Cadet\, Legion Rifle Competition and so on.
X-ALT-DESC;FMTTYPE=text/html:Beatrice American Legion Post 27 is hosting its 10th annual Winter Chicken Barbeque March 6\, at the Legion Club\, 701 Dorsey St.<br />\nOne-half chicken with all the trimmings\, along with ice cream\, will be served from 10:30 am to 1:30 pm. The cost is $8 per plate. Carry-out meals will be available. Advance tickets can be purchased at the club or from Legion members. All the proceeds will go toward the Legion&#39\;s Children and Youth Programs\, including American Legion Baseball\, Boys State\, Boy Scouts\, County Government Day\, Junior Law Cadet\, Legion Rifle Competition and so on. 
LOCATION:
UID:e.41.4202
SEQUENCE:3
DTSTAMP:20260424T211454Z
URL:https://business.beatricechamber.com/events/details/chicken-barbeque-03-06-2011-4202
END:VEVENT

END:VCALENDAR
