BEGIN:VCALENDAR
VERSION:2.0
PRODID:-//ChamberMaster//Event Calendar 2.0//EN
METHOD:PUBLISH
X-PUBLISHED-TTL:P3D
REFRESH-INTERVAL:P3D
CALSCALE:GREGORIAN
BEGIN:VEVENT
DTSTART:20110323T220000Z
DTEND:20110324T000000Z
X-MICROSOFT-CDO-ALLDAYEVENT:FALSE
SUMMARY:Chicken Supper
DESCRIPTION:Beatrice American Legion Auxiliary Chicken Supper\n\n\n\nWednesday\, March 23\n\n5 - 7 pm\n\n\n\nAmerican Legion Club\, 701 Dorsey Street\, Beatrice\n\n\n\nThe meal includes a large variety of salads.  Cost of the meal is $7.50 for adults and $3 for children under age 10.  Proceeds are used to finance veterans' projects\, children & youth\, local community projects and charities.
X-ALT-DESC;FMTTYPE=text/html:Beatrice American Legion Auxiliary Chicken Supper<br />\n<br />\nWednesday\, March 23<br />\n5 - 7 pm<br />\n<br />\nAmerican Legion Club\, 701 Dorsey Street\, Beatrice<br />\n<br />\nThe meal includes a large variety of salads.&nbsp\; Cost of the meal is $7.50 for adults and $3 for children under age 10.&nbsp\; Proceeds are used to finance veterans&#39\; projects\, children &amp\; youth\, local community projects and charities.
LOCATION:
UID:e.41.4248
SEQUENCE:3
DTSTAMP:20260424T211453Z
URL:https://business.beatricechamber.com/events/details/chicken-supper-03-23-2011-4248
END:VEVENT

END:VCALENDAR
