BEGIN:VCALENDAR
VERSION:2.0
PRODID:-//ChamberMaster//Event Calendar 2.0//EN
METHOD:PUBLISH
X-PUBLISHED-TTL:P3D
REFRESH-INTERVAL:P3D
CALSCALE:GREGORIAN
BEGIN:VEVENT
DTSTART:20110223T230000Z
DTEND:20110224T010000Z
X-MICROSOFT-CDO-ALLDAYEVENT:FALSE
SUMMARY:Chicken Supper - Beatrice American Legion Auxiliary
DESCRIPTION:Chicken Supper including salad bar\n\nhosted by Beatrice American Legion Auxiliary\n\n\n\nWednesday\, February 23rd\n\n5 - 7 p.m.\n\n\n\nAmerican Legion Club\, 701 Dorsey Street\, Beatrice\n\n\n\nAdult Price $7.50 with meals for children under age 10\, $3\n\n\n\nAll proceeds are used to finance veterans' projects\, children and youth\, local community projects and charities.
X-ALT-DESC;FMTTYPE=text/html:Chicken Supper including salad bar<br />\nhosted by Beatrice American Legion Auxiliary<br />\n<br />\nWednesday\, February 23rd<br />\n5 - 7 p.m.<br />\n<br />\nAmerican Legion Club\, 701 Dorsey Street\, Beatrice<br />\n<br />\nAdult Price $7.50 with meals for children under age 10\, $3<br />\n<br />\nAll proceeds are used to finance veterans&#39\; projects\, children and youth\, local community projects and charities.
LOCATION:
UID:e.41.4181
SEQUENCE:3
DTSTAMP:20260424T225900Z
URL:https://business.beatricechamber.com/events/details/chicken-supper-beatrice-american-legion-auxiliary-02-23-2011-4181
END:VEVENT

END:VCALENDAR
